BEGIN:VCALENDAR
VERSION:2.0
PRODID:-//Westfield Park Primary School - ECPv6.15.14//NONSGML v1.0//EN
CALSCALE:GREGORIAN
METHOD:PUBLISH
X-ORIGINAL-URL:https://westfieldparkps.wa.edu.au
X-WR-CALDESC:Events for Westfield Park Primary School
REFRESH-INTERVAL;VALUE=DURATION:PT1H
X-Robots-Tag:noindex
X-PUBLISHED-TTL:PT1H
BEGIN:VTIMEZONE
TZID:Australia/Perth
BEGIN:STANDARD
TZOFFSETFROM:+0800
TZOFFSETTO:+0800
TZNAME:AWST
DTSTART:20210101T000000
END:STANDARD
END:VTIMEZONE
BEGIN:VEVENT
DTSTART;VALUE=DATE:20220822
DTEND;VALUE=DATE:20220823
DTSTAMP:20260424T012321
CREATED:20220816T051416Z
LAST-MODIFIED:20220816T051416Z
UID:495-1661126400-1661212799@westfieldparkps.wa.edu.au
SUMMARY:School Development Day
DESCRIPTION:
URL:https://westfieldparkps.wa.edu.au/event/school-development-day/
CATEGORIES:Whole School
END:VEVENT
BEGIN:VEVENT
DTSTART;VALUE=DATE:20220819
DTEND;VALUE=DATE:20220820
DTSTAMP:20260424T012321
CREATED:20220816T051323Z
LAST-MODIFIED:20220816T051323Z
UID:491-1660867200-1660953599@westfieldparkps.wa.edu.au
SUMMARY:Cross Country Carnival – Roleystone CC
DESCRIPTION:
URL:https://westfieldparkps.wa.edu.au/event/cross-country-carnival-roleystone-cc/
CATEGORIES:Whole School
END:VEVENT
BEGIN:VEVENT
DTSTART;VALUE=DATE:20220816
DTEND;VALUE=DATE:20220817
DTSTAMP:20260424T012321
CREATED:20220816T051301Z
LAST-MODIFIED:20220816T051301Z
UID:489-1660608000-1660694399@westfieldparkps.wa.edu.au
SUMMARY:School Nurse
DESCRIPTION:
URL:https://westfieldparkps.wa.edu.au/event/school-nurse-2/
CATEGORIES:Whole School
END:VEVENT
BEGIN:VEVENT
DTSTART;VALUE=DATE:20220809
DTEND;VALUE=DATE:20220810
DTSTAMP:20260424T012321
CREATED:20220816T051239Z
LAST-MODIFIED:20220816T051239Z
UID:487-1660003200-1660089599@westfieldparkps.wa.edu.au
SUMMARY:School Nurse
DESCRIPTION:
URL:https://westfieldparkps.wa.edu.au/event/school-nurse/
CATEGORIES:Whole School
END:VEVENT
BEGIN:VEVENT
DTSTART;VALUE=DATE:20220804
DTEND;VALUE=DATE:20220805
DTSTAMP:20260424T012321
CREATED:20220816T051213Z
LAST-MODIFIED:20220816T051213Z
UID:485-1659571200-1659657599@westfieldparkps.wa.edu.au
SUMMARY:Assembly
DESCRIPTION:
URL:https://westfieldparkps.wa.edu.au/event/assembly/
CATEGORIES:Whole School
END:VEVENT
BEGIN:VEVENT
DTSTART;VALUE=DATE:20220718
DTEND;VALUE=DATE:20220719
DTSTAMP:20260424T012321
CREATED:20220816T051059Z
LAST-MODIFIED:20220816T051059Z
UID:483-1658102400-1658188799@westfieldparkps.wa.edu.au
SUMMARY:Term 3 begins
DESCRIPTION:
URL:https://westfieldparkps.wa.edu.au/event/term-3-begins/
CATEGORIES:Whole School
END:VEVENT
END:VCALENDAR