BEGIN:VCALENDAR
VERSION:2.0
PRODID:-//Westfield Park Primary School - ECPv6.15.14//NONSGML v1.0//EN
CALSCALE:GREGORIAN
METHOD:PUBLISH
X-WR-CALNAME:Westfield Park Primary School
X-ORIGINAL-URL:https://westfieldparkps.wa.edu.au
X-WR-CALDESC:Events for Westfield Park Primary School
REFRESH-INTERVAL;VALUE=DURATION:PT1H
X-Robots-Tag:noindex
X-PUBLISHED-TTL:PT1H
BEGIN:VTIMEZONE
TZID:Australia/Perth
BEGIN:STANDARD
TZOFFSETFROM:+0800
TZOFFSETTO:+0800
TZNAME:AWST
DTSTART:20210101T000000
END:STANDARD
END:VTIMEZONE
BEGIN:VEVENT
DTSTART;VALUE=DATE:20221104
DTEND;VALUE=DATE:20221105
DTSTAMP:20260424T055805
CREATED:20221014T045421Z
LAST-MODIFIED:20221014T045421Z
UID:776-1667520000-1667606399@westfieldparkps.wa.edu.au
SUMMARY:DDSA Interschool Athletics Carnival
DESCRIPTION:
URL:https://westfieldparkps.wa.edu.au/event/ddsa-interschool-athletics-carnival/
LOCATION:Roleystone Community College\, 90 Raeburn Rd\, ROLEYSTONE\, WA\, 6111\, Australia
CATEGORIES:Year 3,Year 4,Year 5,Year 6
END:VEVENT
BEGIN:VEVENT
DTSTART;TZID=Australia/Perth:20221028T090000
DTEND;TZID=Australia/Perth:20221028T130000
DTSTAMP:20260424T055805
CREATED:20221014T042212Z
LAST-MODIFIED:20221014T042212Z
UID:739-1666947600-1666962000@westfieldparkps.wa.edu.au
SUMMARY:DDSA Interschool Jumps & Throws Carnival
DESCRIPTION:
URL:https://westfieldparkps.wa.edu.au/event/ddsa-interschool-jumps-throws-carnival/
LOCATION:Westfield Park Primary School\, 11 Hemingway Drive\, Camillo\, WA\, 6111\, Australia
CATEGORIES:Staff,Year 3,Year 4,Year 5,Year 6
END:VEVENT
BEGIN:VEVENT
DTSTART;VALUE=DATE:20221018
DTEND;VALUE=DATE:20221019
DTSTAMP:20260424T055805
CREATED:20221014T033148Z
LAST-MODIFIED:20221014T033148Z
UID:721-1666051200-1666137599@westfieldparkps.wa.edu.au
SUMMARY:Jumps & Throws Carnival
DESCRIPTION:
URL:https://westfieldparkps.wa.edu.au/event/jumps-throws-carnival-2/
LOCATION:WA
CATEGORIES:Year 3,Year 4,Year 5,Year 6
END:VEVENT
END:VCALENDAR